BEGIN:VCALENDAR
VERSION:2.0
PRODID:-//LiftedMCR - ECPv6.15.20//NONSGML v1.0//EN
CALSCALE:GREGORIAN
METHOD:PUBLISH
X-WR-CALNAME:LiftedMCR
X-ORIGINAL-URL:https://liftedmcr.org.uk
X-WR-CALDESC:Events for LiftedMCR
REFRESH-INTERVAL;VALUE=DURATION:PT1H
X-Robots-Tag:noindex
X-PUBLISHED-TTL:PT1H
BEGIN:VTIMEZONE
TZID:Europe/London
BEGIN:DAYLIGHT
TZOFFSETFROM:+0000
TZOFFSETTO:+0100
TZNAME:BST
DTSTART:20250330T010000
END:DAYLIGHT
BEGIN:STANDARD
TZOFFSETFROM:+0100
TZOFFSETTO:+0000
TZNAME:GMT
DTSTART:20251026T010000
END:STANDARD
BEGIN:DAYLIGHT
TZOFFSETFROM:+0000
TZOFFSETTO:+0100
TZNAME:BST
DTSTART:20260329T010000
END:DAYLIGHT
BEGIN:STANDARD
TZOFFSETFROM:+0100
TZOFFSETTO:+0000
TZNAME:GMT
DTSTART:20261025T010000
END:STANDARD
BEGIN:DAYLIGHT
TZOFFSETFROM:+0000
TZOFFSETTO:+0100
TZNAME:BST
DTSTART:20270328T010000
END:DAYLIGHT
BEGIN:STANDARD
TZOFFSETFROM:+0100
TZOFFSETTO:+0000
TZNAME:GMT
DTSTART:20271031T010000
END:STANDARD
END:VTIMEZONE
BEGIN:VEVENT
DTSTART;TZID=Europe/London:20260420T110000
DTEND;TZID=Europe/London:20260420T140000
DTSTAMP:20260422T095804
CREATED:20240612T133936Z
LAST-MODIFIED:20240612T133936Z
UID:10001221-1776682800-1776693600@liftedmcr.org.uk
SUMMARY:Lifted Carers Drop In
DESCRIPTION:Did you know that we have a fortnightly book club? The Lifted WOW team\, were having a chat at the start of the year about all the new books that… Continue reading Women’s Book Club
URL:https://liftedmcr.org.uk/event/lifted-carers-drop-in/2026-04-20/
LOCATION:Lifted\, The Dandelion Community\, Oatlands Road\, Wythenshawe\, Manchester\, M22 1AH
CATEGORIES:Drop In
ATTACH;FMTTYPE=image/png:https://liftedmcr.org.uk/wp-content/uploads/2022/08/Lifted-Drop-in1.png
END:VEVENT
BEGIN:VEVENT
DTSTART;TZID=Europe/London:20260420T123000
DTEND;TZID=Europe/London:20260420T140000
DTSTAMP:20260422T095804
CREATED:20240612T135127Z
LAST-MODIFIED:20240612T135225Z
UID:10001482-1776688200-1776693600@liftedmcr.org.uk
SUMMARY:WOW Uplift Project
DESCRIPTION:Did you know that we have a fortnightly book club? The Lifted WOW team\, were having a chat at the start of the year about all the new books that… Continue reading Women’s Book Club
URL:https://liftedmcr.org.uk/event/wow-uplift-project/2026-04-20/
LOCATION:Lifted\, The Dandelion Community\, Oatlands Road\, Wythenshawe\, Manchester\, M22 1AH
CATEGORIES:Events
ATTACH;FMTTYPE=image/png:https://liftedmcr.org.uk/wp-content/uploads/2024/06/Lifted-Uplift-Meal3.png
END:VEVENT
END:VCALENDAR